BEGIN:VCALENDAR
VERSION:2.0
PRODID:-//Western Heights Baptist Church - ECPv6.15.17//NONSGML v1.0//EN
CALSCALE:GREGORIAN
METHOD:PUBLISH
X-WR-CALNAME:Western Heights Baptist Church
X-ORIGINAL-URL:https://westernheights.net
X-WR-CALDESC:Events for Western Heights Baptist Church
REFRESH-INTERVAL;VALUE=DURATION:PT1H
X-Robots-Tag:noindex
X-PUBLISHED-TTL:PT1H
BEGIN:VTIMEZONE
TZID:America/New_York
BEGIN:DAYLIGHT
TZOFFSETFROM:-0500
TZOFFSETTO:-0400
TZNAME:EDT
DTSTART:20240310T070000
END:DAYLIGHT
BEGIN:STANDARD
TZOFFSETFROM:-0400
TZOFFSETTO:-0500
TZNAME:EST
DTSTART:20241103T060000
END:STANDARD
BEGIN:DAYLIGHT
TZOFFSETFROM:-0500
TZOFFSETTO:-0400
TZNAME:EDT
DTSTART:20250309T070000
END:DAYLIGHT
BEGIN:STANDARD
TZOFFSETFROM:-0400
TZOFFSETTO:-0500
TZNAME:EST
DTSTART:20251102T060000
END:STANDARD
BEGIN:DAYLIGHT
TZOFFSETFROM:-0500
TZOFFSETTO:-0400
TZNAME:EDT
DTSTART:20260308T070000
END:DAYLIGHT
BEGIN:STANDARD
TZOFFSETFROM:-0400
TZOFFSETTO:-0500
TZNAME:EST
DTSTART:20261101T060000
END:STANDARD
END:VTIMEZONE
BEGIN:VTIMEZONE
TZID:UTC
BEGIN:STANDARD
TZOFFSETFROM:+0000
TZOFFSETTO:+0000
TZNAME:UTC
DTSTART:20240101T000000
END:STANDARD
END:VTIMEZONE
BEGIN:VEVENT
DTSTART;TZID=America/New_York:20251105T183000
DTEND;TZID=America/New_York:20251105T193000
DTSTAMP:20260424T155202
CREATED:20250311T234024Z
LAST-MODIFIED:20251028T141311Z
UID:17126-1762367400-1762371000@westernheights.net
SUMMARY:Wednesday Evening Services
DESCRIPTION:Services start at 6:30 p.m.  Adults meet in the sanctuary\, youth meet in the youth worship room\, and children meet in the children’s area off of the gym. All programs end at 7:30 p.m.  Also\, remember to join us for supper starting at 5:30 p.m. before the services!
URL:https://westernheights.net/event/wednesday-supper-services-3-2-2-2-2-3/
LOCATION:Western Heights Baptist Church\, 2382 West Point Rd\, LaGrange\, GA\, 30240\, United States
END:VEVENT
BEGIN:VEVENT
DTSTART;TZID=America/New_York:20251105T173000
DTEND;TZID=America/New_York:20251105T183000
DTSTAMP:20260424T155202
CREATED:20250723T222406Z
LAST-MODIFIED:20251028T141136Z
UID:17120-1762363800-1762367400@westernheights.net
SUMMARY:Wednesday Night Supper
DESCRIPTION:Join us in the Fellowship Hall at 5:30 for supper\, fun\, and fellowship!
URL:https://westernheights.net/event/wednesday-night-supper-3-2-2-2-2-3-2/
LOCATION:Western Heights Baptist Church\, 2382 West Point Rd\, LaGrange\, GA\, 30240\, United States
END:VEVENT
BEGIN:VEVENT
DTSTART;TZID=America/New_York:20251104T173000
DTEND;TZID=America/New_York:20251104T183000
DTSTAMP:20260424T155202
CREATED:20250825T211439Z
LAST-MODIFIED:20251028T140950Z
UID:17110-1762277400-1762281000@westernheights.net
SUMMARY:Prayer Meeting
DESCRIPTION:Join with other believers in the Sanctuary as we offer prayer to Our Mighty God!
URL:https://westernheights.net/event/prayer-meeting-2-2-3-2/
LOCATION:Western Heights Baptist Church\, 2382 West Point Rd\, LaGrange\, GA\, 30240\, United States
END:VEVENT
BEGIN:VEVENT
DTSTART;TZID=America/New_York:20251102T093000
DTEND;TZID=America/New_York:20251102T103000
DTSTAMP:20260424T155202
CREATED:20251015T180414Z
LAST-MODIFIED:20251015T180414Z
UID:17100-1762075800-1762079400@westernheights.net
SUMMARY:Exploring Western Heights
DESCRIPTION:Usually\, on the first Sunday of each month\, Pastor Jason teaches Exploring Western Heights\, a one-time attendance class for adults to learn more about the vision of Western Heights Baptist Church and its ministries. This is your opportunity to ask questions and learn more about who we are. The class meets at 9:30 AM. Sign up by calling the church office at 706-882-2545.
URL:https://westernheights.net/event/exploring-western-heights/
LOCATION:Western Heights Baptist Church\, 2382 West Point Rd\, LaGrange\, GA\, 30240\, United States
END:VEVENT
BEGIN:VEVENT
DTSTART;TZID=America/New_York:20251029T183000
DTEND;TZID=America/New_York:20251029T193000
DTSTAMP:20260424T155202
CREATED:20250311T234024Z
LAST-MODIFIED:20251028T141240Z
UID:17059-1761762600-1761766200@westernheights.net
SUMMARY:Wednesday Evening Services
DESCRIPTION:Services start at 6:30 p.m.  Adults meet in the sanctuary\, youth meet in the youth worship room\, and children meet in the children’s area off of the gym. All programs end at 7:30 p.m.  Also\, remember to join us for supper starting at 5:30 p.m. before the services!
URL:https://westernheights.net/event/wednesday-supper-services-3-2-2-2-2/
LOCATION:Western Heights Baptist Church\, 2382 West Point Rd\, LaGrange\, GA\, 30240\, United States
END:VEVENT
BEGIN:VEVENT
DTSTART;TZID=America/New_York:20251029T173000
DTEND;TZID=America/New_York:20251029T183000
DTSTAMP:20260424T155202
CREATED:20250723T222406Z
LAST-MODIFIED:20251028T141120Z
UID:17118-1761759000-1761762600@westernheights.net
SUMMARY:Wednesday Night Supper
DESCRIPTION:Join us in the Fellowship Hall at 5:30 for supper\, fun\, and fellowship!
URL:https://westernheights.net/event/wednesday-night-supper-3-2-2-2-2-3/
LOCATION:Western Heights Baptist Church\, 2382 West Point Rd\, LaGrange\, GA\, 30240\, United States
END:VEVENT
BEGIN:VEVENT
DTSTART;TZID=America/New_York:20251028T173000
DTEND;TZID=America/New_York:20251028T183000
DTSTAMP:20260424T155202
CREATED:20250825T211439Z
LAST-MODIFIED:20251028T140929Z
UID:17108-1761672600-1761676200@westernheights.net
SUMMARY:Prayer Meeting
DESCRIPTION:Join with other believers in the Sanctuary as we offer prayer to Our Mighty God!
URL:https://westernheights.net/event/prayer-meeting-2-2-3/
LOCATION:Western Heights Baptist Church\, 2382 West Point Rd\, LaGrange\, GA\, 30240\, United States
END:VEVENT
BEGIN:VEVENT
DTSTART;TZID=America/New_York:20251025T090000
DTEND;TZID=America/New_York:20251025T093000
DTSTAMP:20260424T155202
CREATED:20240125T001959Z
LAST-MODIFIED:20250930T152021Z
UID:17047-1761382800-1761384600@westernheights.net
SUMMARY:Food Pantry
DESCRIPTION:Western Heights Food Pantry is a free food giveaway that occurs on the fourth Saturday of the month. Food boxes include pantry staples plus fresh fruits and vegetables in season. Western Heights is a partner agency of Feeding the Valley Food Bank.
URL:https://westernheights.net/event/food-pantry-8-2/
LOCATION:Western Heights Baptist Church\, 2382 West Point Rd\, LaGrange\, GA\, 30240\, United States
END:VEVENT
BEGIN:VEVENT
DTSTART;TZID=America/New_York:20251008T173000
DTEND;TZID=America/New_York:20251008T183000
DTSTAMP:20260424T155202
CREATED:20250723T222406Z
LAST-MODIFIED:20250930T153526Z
UID:17057-1759944600-1759948200@westernheights.net
SUMMARY:Wednesday Night Supper
DESCRIPTION:Join us in the Fellowship Hall at 5:30 for supper\, fun\, and fellowship!
URL:https://westernheights.net/event/wednesday-night-supper-3-2-2-2-2/
LOCATION:Western Heights Baptist Church\, 2382 West Point Rd\, LaGrange\, GA\, 30240\, United States
END:VEVENT
BEGIN:VEVENT
DTSTART;TZID=America/New_York:20251007T173000
DTEND;TZID=America/New_York:20251007T183000
DTSTAMP:20260424T155202
CREATED:20250825T211439Z
LAST-MODIFIED:20250930T151847Z
UID:17063-1759858200-1759861800@westernheights.net
SUMMARY:Prayer Meeting
DESCRIPTION:Join with other believers in the Sanctuary as we offer prayer to Our Mighty God!
URL:https://westernheights.net/event/prayer-meeting-2-2/
LOCATION:Western Heights Baptist Church\, 2382 West Point Rd\, LaGrange\, GA\, 30240\, United States
END:VEVENT
BEGIN:VEVENT
DTSTART;TZID=America/New_York:20251001T173000
DTEND;TZID=America/New_York:20251001T183000
DTSTAMP:20260424T155202
CREATED:20250723T222406Z
LAST-MODIFIED:20250723T222406Z
UID:17096-1759339800-1759343400@westernheights.net
SUMMARY:Wednesday Night Supper
DESCRIPTION:Join us in the Fellowship Hall at 5:30 for supper\, fun\, and fellowship!
URL:https://westernheights.net/event/wednesday-night-supper-3-2-2-2-2-2/
LOCATION:Western Heights Baptist Church\, 2382 West Point Rd\, LaGrange\, GA\, 30240\, United States
END:VEVENT
BEGIN:VEVENT
DTSTART;TZID=America/New_York:20250930T173000
DTEND;TZID=America/New_York:20250930T183000
DTSTAMP:20260424T155202
CREATED:20250825T211439Z
LAST-MODIFIED:20250930T151924Z
UID:17061-1759253400-1759257000@westernheights.net
SUMMARY:Prayer Meeting
DESCRIPTION:Join with other believers in the Sanctuary as we offer prayer to Our Mighty God!
URL:https://westernheights.net/event/prayer-meeting-2/
LOCATION:Western Heights Baptist Church\, 2382 West Point Rd\, LaGrange\, GA\, 30240\, United States
END:VEVENT
BEGIN:VEVENT
DTSTART;TZID=America/New_York:20250928T180000
DTEND;TZID=America/New_York:20250928T200000
DTSTAMP:20260424T155202
CREATED:20250826T120941Z
LAST-MODIFIED:20250826T121011Z
UID:17072-1759082400-1759089600@westernheights.net
SUMMARY:Youth Game Night
DESCRIPTION:Calling all youth for some fun together playing games!  For more information\, email info@westernheights.net
URL:https://westernheights.net/event/youth-game-night/
LOCATION:GA
END:VEVENT
BEGIN:VEVENT
DTSTART;TZID=America/New_York:20250927T090000
DTEND;TZID=America/New_York:20250927T093000
DTSTAMP:20260424T155202
CREATED:20240125T001959Z
LAST-MODIFIED:20240125T001959Z
UID:17093-1758963600-1758965400@westernheights.net
SUMMARY:Food Pantry
DESCRIPTION:Western Heights Food Pantry is a free food giveaway that occurs on the fourth Saturday of the month. Food boxes include pantry staples plus fresh fruits and vegetables in season. Western Heights is a partner agency of Feeding the Valley Food Bank.
URL:https://westernheights.net/event/food-pantry-8-2-2/
LOCATION:Western Heights Baptist Church\, 2382 West Point Rd\, LaGrange\, GA\, 30240\, United States
END:VEVENT
BEGIN:VEVENT
DTSTART;TZID=America/New_York:20250924T183000
DTEND;TZID=America/New_York:20250924T193000
DTSTAMP:20260424T155202
CREATED:20250311T234024Z
LAST-MODIFIED:20250311T234024Z
UID:17092-1758738600-1758742200@westernheights.net
SUMMARY:Wednesday Evening Services
DESCRIPTION:Services start at 6:30 p.m.  Adults meet in the sanctuary\, youth meet in the youth worship room\, and children meet in the children’s area off of the gym. All programs end at 7:30 p.m.  Also\, remember to join us for supper starting at 5:30 p.m. before the services!
URL:https://westernheights.net/event/wednesday-supper-services-3-2-2-2-2-2/
LOCATION:Western Heights Baptist Church\, 2382 West Point Rd\, LaGrange\, GA\, 30240\, United States
END:VEVENT
BEGIN:VEVENT
DTSTART;TZID=America/New_York:20250917T183000
DTEND;TZID=America/New_York:20250917T193000
DTSTAMP:20260424T155202
CREATED:20250311T234024Z
LAST-MODIFIED:20250825T192704Z
UID:17055-1758133800-1758137400@westernheights.net
SUMMARY:Wednesday Evening Services
DESCRIPTION:Services start at 6:30 p.m.  Adults meet in the sanctuary\, youth meet in the youth worship room\, and children meet in the children’s area off of the gym. All programs end at 7:30 p.m.  Also\, remember to join us for supper starting at 5:30 p.m. before the services!
URL:https://westernheights.net/event/wednesday-supper-services-3-2-2-2/
LOCATION:Western Heights Baptist Church\, 2382 West Point Rd\, LaGrange\, GA\, 30240\, United States
END:VEVENT
BEGIN:VEVENT
DTSTART;TZID=America/New_York:20250917T173000
DTEND;TZID=America/New_York:20250917T183000
DTSTAMP:20260424T155202
CREATED:20250723T222406Z
LAST-MODIFIED:20250825T191619Z
UID:17043-1758130200-1758133800@westernheights.net
SUMMARY:Wednesday Night Supper
DESCRIPTION:Join us in the Fellowship Hall at 5:30 for supper\, fun\, and fellowship!
URL:https://westernheights.net/event/wednesday-night-supper-3-2-2-2/
LOCATION:Western Heights Baptist Church\, 2382 West Point Rd\, LaGrange\, GA\, 30240\, United States
END:VEVENT
BEGIN:VEVENT
DTSTART;TZID=America/New_York:20250916T173000
DTEND;TZID=America/New_York:20250916T183000
DTSTAMP:20260424T155202
CREATED:20250825T211439Z
LAST-MODIFIED:20250825T193813Z
UID:17069-1758043800-1758047400@westernheights.net
SUMMARY:Prayer Meeting
DESCRIPTION:Join with other believers in the Sanctuary as we offer prayer to Our Mighty God!
URL:https://westernheights.net/event/prayer-meeting-2-3-2/
LOCATION:Western Heights Baptist Church\, 2382 West Point Rd\, LaGrange\, GA\, 30240\, United States
END:VEVENT
BEGIN:VEVENT
DTSTART;TZID=America/New_York:20250915T180000
DTEND;TZID=America/New_York:20250915T200000
DTSTAMP:20260424T155202
CREATED:20250825T190129Z
LAST-MODIFIED:20250825T190930Z
UID:17037-1757959200-1757966400@westernheights.net
SUMMARY:GriefShare
DESCRIPTION:Grieving a loss?  Find hope and healing after the death of a loved one.  Join us at weekly grief support group.
URL:https://westernheights.net/event/griefshare-2/
LOCATION:Western Heights Baptist Church\, 2382 West Point Rd\, LaGrange\, GA\, 30240\, United States
END:VEVENT
BEGIN:VEVENT
DTSTART;TZID=America/New_York:20250914T130000
DTEND;TZID=America/New_York:20250914T170000
DTSTAMP:20260424T155202
CREATED:20250825T192318Z
LAST-MODIFIED:20250825T192318Z
UID:17049-1757854800-1757869200@westernheights.net
SUMMARY:Church Picnic - Camp Viola
DESCRIPTION:Food and fellowship.  It doesn’t get any better than a church picnic at Camp Viola. \nCall the church office at 706-882-2545 for location directions.
URL:https://westernheights.net/event/church-picnic-camp-viola/
LOCATION:GA
END:VEVENT
BEGIN:VEVENT
DTSTART;TZID=UTC:20250911T130000
DTEND;TZID=UTC:20250911T180000
DTSTAMP:20260424T155202
CREATED:20250730T213100Z
LAST-MODIFIED:20250811T191156Z
UID:17022-1757595600-1757613600@westernheights.net
SUMMARY:Red Cross Blood Drive in the gym
DESCRIPTION:Western Heights is hosting a Red Cross Blood Drive. To donate\, sign up here. \nAs a bonus\, and in celebration of the 75th anniversary of PEANUTS\, those who come to give blood\, platelets\, or AB Elite plasma at this drive will receive an exclusive Red Cross + PEANUTS mystery bag with one of four special T-shirt designs focusing on the classic friendship between Snoopy and Woodstock\, two beloved characters of the PEANUTS gang. (T-shirts available while supplies last.)
URL:https://westernheights.net/event/red-cross-blood-drive-in-the-gym/
LOCATION:Western Heights Baptist Church\, 2382 West Point Rd\, LaGrange\, GA\, 30240\, United States
END:VEVENT
BEGIN:VEVENT
DTSTART;TZID=America/New_York:20250910T183000
DTEND;TZID=America/New_York:20250910T193000
DTSTAMP:20260424T155202
CREATED:20250311T234024Z
LAST-MODIFIED:20250825T192649Z
UID:17053-1757529000-1757532600@westernheights.net
SUMMARY:Wednesday Evening Services
DESCRIPTION:Services start at 6:30 p.m.  Adults meet in the sanctuary\, youth meet in the youth worship room\, and children meet in the children’s area off of the gym. All programs end at 7:30 p.m.  Also\, remember to join us for supper starting at 5:30 p.m. before the services!
URL:https://westernheights.net/event/wednesday-supper-services-3-2-2/
LOCATION:Western Heights Baptist Church\, 2382 West Point Rd\, LaGrange\, GA\, 30240\, United States
END:VEVENT
BEGIN:VEVENT
DTSTART;TZID=America/New_York:20250910T173000
DTEND;TZID=America/New_York:20250910T183000
DTSTAMP:20260424T155202
CREATED:20250723T222406Z
LAST-MODIFIED:20250825T191432Z
UID:17041-1757525400-1757529000@westernheights.net
SUMMARY:Wednesday Night Supper
DESCRIPTION:Join us in the Fellowship Hall at 5:30 for supper\, fun\, and fellowship.
URL:https://westernheights.net/event/wednesday-night-supper-3-2-2/
LOCATION:Western Heights Baptist Church\, 2382 West Point Rd\, LaGrange\, GA\, 30240\, United States
END:VEVENT
BEGIN:VEVENT
DTSTART;TZID=America/New_York:20250909T173000
DTEND;TZID=America/New_York:20250909T183000
DTSTAMP:20260424T155202
CREATED:20250825T211439Z
LAST-MODIFIED:20250825T193745Z
UID:17067-1757439000-1757442600@westernheights.net
SUMMARY:Prayer Meeting
DESCRIPTION:Join with other believers in the Sanctuary as we offer prayer to Our Mighty God!
URL:https://westernheights.net/event/prayer-meeting-2-3/
LOCATION:Western Heights Baptist Church\, 2382 West Point Rd\, LaGrange\, GA\, 30240\, United States
END:VEVENT
BEGIN:VEVENT
DTSTART;TZID=America/New_York:20250908T080000
DTEND;TZID=America/New_York:20250908T170000
DTSTAMP:20260424T155202
CREATED:20250825T190129Z
LAST-MODIFIED:20250825T190333Z
UID:17035-1757318400-1757350800@westernheights.net
SUMMARY:GriefShare
DESCRIPTION:Grieving a loss?  Find hope and healing after the death of a loved one.  Join us at weekly grief support group.
URL:https://westernheights.net/event/griefshare/
LOCATION:Western Heights Baptist Church\, 2382 West Point Rd\, LaGrange\, GA\, 30240\, United States
END:VEVENT
BEGIN:VEVENT
DTSTART;TZID=America/New_York:20250907T093000
DTEND;TZID=America/New_York:20250907T103000
DTSTAMP:20260424T155202
CREATED:20250825T172208Z
LAST-MODIFIED:20250825T180621Z
UID:17033-1757237400-1757241000@westernheights.net
SUMMARY:Exploring Western Heights Membership Class
DESCRIPTION:Pastor Jason will be teaches the next Exploring Western Heights membership class on Sunday\, September 7\, at 9:30 a.m. in conference room 304 in the administrative hallway. \nIt is a one-time attendance class for adults to learn more about the vision of Western Heights Baptist Church and its ministries. This is your opportunity to ask questions and learn more about who we are. \nSign up by calling the church office\, 706-882-2545\, or email Dianne at\nDianneF@westernheights.net.
URL:https://westernheights.net/event/exploring-western-heights-membership-class/
LOCATION:Western Heights Baptist Church\, 2382 West Point Rd\, LaGrange\, GA\, 30240\, United States
END:VEVENT
BEGIN:VEVENT
DTSTART;TZID=America/New_York:20250903T183000
DTEND;TZID=America/New_York:20250903T193000
DTSTAMP:20260424T155202
CREATED:20250311T234024Z
LAST-MODIFIED:20250825T192628Z
UID:17051-1756924200-1756927800@westernheights.net
SUMMARY:Wednesday Evening Services
DESCRIPTION:Services start at 6:30 p.m.  Adults meet in the sanctuary\, youth meet in the youth worship room\, and children meet in the children’s area off of the gym. All programs end at 7:30 p.m.  Also\, remember to join us for supper starting at 5:30 p.m. before the services!
URL:https://westernheights.net/event/wednesday-supper-services-3-2/
LOCATION:Western Heights Baptist Church\, 2382 West Point Rd\, LaGrange\, GA\, 30240\, United States
END:VEVENT
BEGIN:VEVENT
DTSTART;TZID=America/New_York:20250903T173000
DTEND;TZID=America/New_York:20250903T183000
DTSTAMP:20260424T155202
CREATED:20250723T222406Z
LAST-MODIFIED:20250825T191112Z
UID:17039-1756920600-1756924200@westernheights.net
SUMMARY:Wednesday Night Supper
DESCRIPTION:Wednesday night supper is back! Join us in the Fellowship Hall at 5:30 for supper\, fun\, and fellowship.
URL:https://westernheights.net/event/wednesday-night-supper-3-2/
LOCATION:Western Heights Baptist Church\, 2382 West Point Rd\, LaGrange\, GA\, 30240\, United States
END:VEVENT
BEGIN:VEVENT
DTSTART;TZID=America/New_York:20250902T173000
DTEND;TZID=America/New_York:20250902T183000
DTSTAMP:20260424T155202
CREATED:20250825T211439Z
LAST-MODIFIED:20250825T193431Z
UID:17029-1756834200-1756837800@westernheights.net
SUMMARY:Prayer Meeting
DESCRIPTION:Join with other believers in the Sanctuary as we offer prayer to Our Mighty God!
URL:https://westernheights.net/event/prayer-meeting/
LOCATION:Western Heights Baptist Church\, 2382 West Point Rd\, LaGrange\, GA\, 30240\, United States
END:VEVENT
BEGIN:VEVENT
DTSTART;TZID=America/New_York:20250902T173000
DTEND;TZID=America/New_York:20250902T183000
DTSTAMP:20260424T155202
CREATED:20250825T211439Z
LAST-MODIFIED:20250825T193557Z
UID:17065-1756834200-1756837800@westernheights.net
SUMMARY:Prayer Meeting
DESCRIPTION:Join with other believers in the Sanctuary as we offer prayer to Our Mighty God!
URL:https://westernheights.net/event/prayer-meeting-2-2-2/
LOCATION:Western Heights Baptist Church\, 2382 West Point Rd\, LaGrange\, GA\, 30240\, United States
END:VEVENT
END:VCALENDAR