BEGIN:VCALENDAR
VERSION:2.0
PRODID:-//Western Heights Baptist Church - ECPv6.15.17//NONSGML v1.0//EN
CALSCALE:GREGORIAN
METHOD:PUBLISH
X-WR-CALNAME:Western Heights Baptist Church
X-ORIGINAL-URL:https://westernheights.net
X-WR-CALDESC:Events for Western Heights Baptist Church
REFRESH-INTERVAL;VALUE=DURATION:PT1H
X-Robots-Tag:noindex
X-PUBLISHED-TTL:PT1H
BEGIN:VTIMEZONE
TZID:America/New_York
BEGIN:DAYLIGHT
TZOFFSETFROM:-0500
TZOFFSETTO:-0400
TZNAME:EDT
DTSTART:20150308T070000
END:DAYLIGHT
BEGIN:STANDARD
TZOFFSETFROM:-0400
TZOFFSETTO:-0500
TZNAME:EST
DTSTART:20151101T060000
END:STANDARD
BEGIN:DAYLIGHT
TZOFFSETFROM:-0500
TZOFFSETTO:-0400
TZNAME:EDT
DTSTART:20160313T070000
END:DAYLIGHT
BEGIN:STANDARD
TZOFFSETFROM:-0400
TZOFFSETTO:-0500
TZNAME:EST
DTSTART:20161106T060000
END:STANDARD
BEGIN:DAYLIGHT
TZOFFSETFROM:-0500
TZOFFSETTO:-0400
TZNAME:EDT
DTSTART:20170312T070000
END:DAYLIGHT
BEGIN:STANDARD
TZOFFSETFROM:-0400
TZOFFSETTO:-0500
TZNAME:EST
DTSTART:20171105T060000
END:STANDARD
END:VTIMEZONE
BEGIN:VEVENT
DTSTART;VALUE=DATE:20160612
DTEND;VALUE=DATE:20160617
DTSTAMP:20260425T132205
CREATED:20160418T151156Z
LAST-MODIFIED:20160418T151156Z
UID:2029-1465689600-1466121599@westernheights.net
SUMMARY:Camp Viola
DESCRIPTION:Each year Western Heights sponsors five days of overnight camp for about 50 third through fifth graders from Franklin Forest Elementary. We provide the programming and volunteers to bring a summer church camp experience to these students.
URL:https://westernheights.net/event/camp-viola/
END:VEVENT
BEGIN:VEVENT
DTSTART;TZID=America/New_York:20160604T080000
DTEND;TZID=America/New_York:20160604T120000
DTSTAMP:20260425T132205
CREATED:20160419T201533Z
LAST-MODIFIED:20160419T201533Z
UID:2040-1465027200-1465041600@westernheights.net
SUMMARY:Yard Sale to Support Cuba Mission Trip
DESCRIPTION:Yard Sale in the gym from 8 a.m. – 12 p.m. All proceeds support Cuba mission trip.
URL:https://westernheights.net/event/yard-sale-to-support-cuba-mission-trip/
END:VEVENT
BEGIN:VEVENT
DTSTART;VALUE=DATE:20160531
DTEND;VALUE=DATE:20160604
DTSTAMP:20260425T132205
CREATED:20160418T150943Z
LAST-MODIFIED:20160418T150943Z
UID:2026-1464652800-1464998399@westernheights.net
SUMMARY:Paint the Town
DESCRIPTION:Western Heights youth will be participating as a volunteer team in this annual community event that pairs volunteers with low-income homeowners who need assistance painting their homes. If you would like to join our youth on this project\, contact Matthew Willoughby at 706-594-9951.
URL:https://westernheights.net/event/paint-the-town/
END:VEVENT
BEGIN:VEVENT
DTSTART;TZID=America/New_York:20160515T120000
DTEND;TZID=America/New_York:20160515T133000
DTSTAMP:20260425T132205
CREATED:20160502T190615Z
LAST-MODIFIED:20160502T190615Z
UID:2057-1463313600-1463319000@westernheights.net
SUMMARY:Spaghetti Luncheon
DESCRIPTION:We will gather in the gym immediately following worship for a spaghetti lunch. Donations support our Cuba mission trip.
URL:https://westernheights.net/event/spaghetti-luncheon/
END:VEVENT
BEGIN:VEVENT
DTSTART;TZID=America/New_York:20160511T172500
DTEND;TZID=America/New_York:20160511T183000
DTSTAMP:20260425T132205
CREATED:20160419T201333Z
LAST-MODIFIED:20160419T201333Z
UID:2039-1462987500-1462991400@westernheights.net
SUMMARY:Wednesday Night Supper
DESCRIPTION:We’ll have supper on Wednesday\, May 11 at 5:30 p.m. in the gym. Donations support Cuba mission trip.
URL:https://westernheights.net/event/wednesday-night-supper/
END:VEVENT
BEGIN:VEVENT
DTSTART;TZID=America/New_York:20160430T090000
DTEND;TZID=America/New_York:20160430T120000
DTSTAMP:20260425T132205
CREATED:20160418T150636Z
LAST-MODIFIED:20160418T150636Z
UID:2024-1462006800-1462017600@westernheights.net
SUMMARY:Women's Prayer Day
DESCRIPTION:Meets in the fellowship hall. Leaders will be Becky Grubbs and Faye Benjamin.
URL:https://westernheights.net/event/womens-prayer-day/
END:VEVENT
BEGIN:VEVENT
DTSTART;TZID=America/New_York:20160423T090000
DTEND;TZID=America/New_York:20160423T130000
DTSTAMP:20260425T132205
CREATED:20160413T200719Z
LAST-MODIFIED:20160413T200719Z
UID:1992-1461402000-1461416400@westernheights.net
SUMMARY:Church Work Day
DESCRIPTION:Jobs for all ages inside and out. Lunch provided. No childcare.
URL:https://westernheights.net/event/church-work-day/
CATEGORIES:Work Day
END:VEVENT
END:VCALENDAR