BEGIN:VCALENDAR
VERSION:2.0
PRODID:-//Western Heights Baptist Church - ECPv6.15.17//NONSGML v1.0//EN
CALSCALE:GREGORIAN
METHOD:PUBLISH
X-WR-CALNAME:Western Heights Baptist Church
X-ORIGINAL-URL:https://westernheights.net
X-WR-CALDESC:Events for Western Heights Baptist Church
REFRESH-INTERVAL;VALUE=DURATION:PT1H
X-Robots-Tag:noindex
X-PUBLISHED-TTL:PT1H
BEGIN:VTIMEZONE
TZID:America/New_York
BEGIN:DAYLIGHT
TZOFFSETFROM:-0500
TZOFFSETTO:-0400
TZNAME:EDT
DTSTART:20150308T070000
END:DAYLIGHT
BEGIN:STANDARD
TZOFFSETFROM:-0400
TZOFFSETTO:-0500
TZNAME:EST
DTSTART:20151101T060000
END:STANDARD
BEGIN:DAYLIGHT
TZOFFSETFROM:-0500
TZOFFSETTO:-0400
TZNAME:EDT
DTSTART:20160313T070000
END:DAYLIGHT
BEGIN:STANDARD
TZOFFSETFROM:-0400
TZOFFSETTO:-0500
TZNAME:EST
DTSTART:20161106T060000
END:STANDARD
BEGIN:DAYLIGHT
TZOFFSETFROM:-0500
TZOFFSETTO:-0400
TZNAME:EDT
DTSTART:20170312T070000
END:DAYLIGHT
BEGIN:STANDARD
TZOFFSETFROM:-0400
TZOFFSETTO:-0500
TZNAME:EST
DTSTART:20171105T060000
END:STANDARD
END:VTIMEZONE
BEGIN:VEVENT
DTSTART;TZID=America/New_York:20161012T183000
DTEND;TZID=America/New_York:20161012T193000
DTSTAMP:20260425T114708
CREATED:20161004T164213Z
LAST-MODIFIED:20161004T164213Z
UID:2158-1476297000-1476300600@westernheights.net
SUMMARY:40 Days of Prayer - Concert of Confession
DESCRIPTION:Fellowship Hall. There will be music\, silent reflection\, Scripture reading and prayer. \n 
URL:https://westernheights.net/event/40-days-of-prayer-concert-of-confession/
END:VEVENT
BEGIN:VEVENT
DTSTART;TZID=America/New_York:20161008T190000
DTEND;TZID=America/New_York:20161008T210000
DTSTAMP:20260425T114708
CREATED:20161004T163638Z
LAST-MODIFIED:20161004T163638Z
UID:2155-1475953200-1475960400@westernheights.net
SUMMARY:40 Days of Prayer - Stillness and Quiet
DESCRIPTION:Candlelight prayer in the Sanctuary.
URL:https://westernheights.net/event/40-days-of-prayer-stillness-and-quiet/
END:VEVENT
BEGIN:VEVENT
DTSTART;TZID=America/New_York:20161006T190000
DTEND;TZID=America/New_York:20161006T210000
DTSTAMP:20260425T114708
CREATED:20161004T163505Z
LAST-MODIFIED:20161004T163505Z
UID:2152-1475780400-1475787600@westernheights.net
SUMMARY:40 Days of Prayer - Prayer Walking the Church
DESCRIPTION:
URL:https://westernheights.net/event/40-days-of-prayer-prayer-walking-the-church/
END:VEVENT
BEGIN:VEVENT
DTSTART;TZID=America/New_York:20161005T183000
DTEND;TZID=America/New_York:20161005T193000
DTSTAMP:20260425T114708
CREATED:20160913T161521Z
LAST-MODIFIED:20160913T161521Z
UID:2140-1475692200-1475695800@westernheights.net
SUMMARY:40 Days of Prayer Kick-Off Banquet
DESCRIPTION:Dinner provided by the Western Heights Activities Team launching 40 Days of Prayer. Music\, testimonies and a call to corporate prayer will highlight the evening.
URL:https://westernheights.net/event/40-days-of-prayer-kick-off-banquet/
END:VEVENT
BEGIN:VEVENT
DTSTART;TZID=America/New_York:20160803T183000
DTEND;TZID=America/New_York:20160803T194500
DTSTAMP:20260425T114708
CREATED:20160719T144511Z
LAST-MODIFIED:20160719T144511Z
UID:2122-1470249000-1470253500@westernheights.net
SUMMARY:Back to School Splash! Water Games
DESCRIPTION:Free! Water games for children in first through fifth grades. Sunshine only! No games if it rains.
URL:https://westernheights.net/event/back-to-school-splash-water-games/
END:VEVENT
BEGIN:VEVENT
DTSTART;TZID=America/New_York:20160721T090000
DTEND;TZID=America/New_York:20160721T120000
DTSTAMP:20260425T114708
CREATED:20160719T162331Z
LAST-MODIFIED:20160719T162331Z
UID:2126-1469091600-1469102400@westernheights.net
SUMMARY:Parents Day Out
DESCRIPTION:For children grades first through fifth. $10 payable in person. Register now to hold your spot. \n[button link=”http://westernheights.net/parents-day-out/”] Register now[/button] \n  \n 
URL:https://westernheights.net/event/parents-day-out/
END:VEVENT
BEGIN:VEVENT
DTSTART;VALUE=DATE:20160710
DTEND;VALUE=DATE:20160715
DTSTAMP:20260425T114708
CREATED:20160418T153939Z
LAST-MODIFIED:20160418T153939Z
UID:2034-1468108800-1468540799@westernheights.net
SUMMARY:Free Community VBS\, 5:30 - 8:15 p.m.
DESCRIPTION:Ocean Commotion\, Diving into Noah’s Flood is the theme of this year’s free community Vacation Bible School for children pre-K through fifth grade. Supper will be served each evening. \n[button link=”http://westernheights.net/vbs-registration-form/”] Register now [/button]
URL:https://westernheights.net/event/free-community-vbs-530-815-p-m/
END:VEVENT
BEGIN:VEVENT
DTSTART;VALUE=DATE:20160709
DTEND;VALUE=DATE:20160710
DTSTAMP:20260425T114708
CREATED:20160418T154420Z
LAST-MODIFIED:20160418T154420Z
UID:2035-1468022400-1468108799@westernheights.net
SUMMARY:Water Games & VBS Registration\, 5:30-7 p.m.
DESCRIPTION:Register for VBS that starts on Sunday\, July 10 and then stay and play! There will be all types of water games and fun. VBS is for children ages pre-K through fifth grade.
URL:https://westernheights.net/event/free-community-vbs-registration-water-games-430-630-p-m/
END:VEVENT
BEGIN:VEVENT
DTSTART;VALUE=DATE:20160625
DTEND;VALUE=DATE:20160626
DTSTAMP:20260425T114708
CREATED:20160419T201858Z
LAST-MODIFIED:20160419T201858Z
UID:2041-1466812800-1466899199@westernheights.net
SUMMARY:Churchwide Picnic
DESCRIPTION:
URL:https://westernheights.net/event/churchwide-picnic/
END:VEVENT
BEGIN:VEVENT
DTSTART;VALUE=DATE:20160620
DTEND;VALUE=DATE:20160625
DTSTAMP:20260425T114708
CREATED:20160418T152956Z
LAST-MODIFIED:20160418T152956Z
UID:2031-1466380800-1466812799@westernheights.net
SUMMARY:WHBC Sports Camp\, 9 a.m. - 12 p.m.
DESCRIPTION:This is the first year Western Heights will offer Sports Camp under the direction of Coach Jeff Benefield. Camp is June 20-24 from 9 a.m. – 12 p.m. each day and provides a low cost opportunity for athletic instruction for children ages first through fifth grade. Campers will compete in a variety of sports and games–basketball\, soccer\, volleyball\, kickball–learning the fundamentals needed to play and have fun. Cost is $40 per camper and includes snacks\, drinks and a t-shirt.
URL:https://westernheights.net/event/whbc-sports-camp-9-a-m-12-p-m/
END:VEVENT
BEGIN:VEVENT
DTSTART;VALUE=DATE:20160612
DTEND;VALUE=DATE:20160617
DTSTAMP:20260425T114708
CREATED:20160418T151156Z
LAST-MODIFIED:20160418T151156Z
UID:2029-1465689600-1466121599@westernheights.net
SUMMARY:Camp Viola
DESCRIPTION:Each year Western Heights sponsors five days of overnight camp for about 50 third through fifth graders from Franklin Forest Elementary. We provide the programming and volunteers to bring a summer church camp experience to these students.
URL:https://westernheights.net/event/camp-viola/
END:VEVENT
BEGIN:VEVENT
DTSTART;TZID=America/New_York:20160604T080000
DTEND;TZID=America/New_York:20160604T120000
DTSTAMP:20260425T114708
CREATED:20160419T201533Z
LAST-MODIFIED:20160419T201533Z
UID:2040-1465027200-1465041600@westernheights.net
SUMMARY:Yard Sale to Support Cuba Mission Trip
DESCRIPTION:Yard Sale in the gym from 8 a.m. – 12 p.m. All proceeds support Cuba mission trip.
URL:https://westernheights.net/event/yard-sale-to-support-cuba-mission-trip/
END:VEVENT
BEGIN:VEVENT
DTSTART;VALUE=DATE:20160531
DTEND;VALUE=DATE:20160604
DTSTAMP:20260425T114708
CREATED:20160418T150943Z
LAST-MODIFIED:20160418T150943Z
UID:2026-1464652800-1464998399@westernheights.net
SUMMARY:Paint the Town
DESCRIPTION:Western Heights youth will be participating as a volunteer team in this annual community event that pairs volunteers with low-income homeowners who need assistance painting their homes. If you would like to join our youth on this project\, contact Matthew Willoughby at 706-594-9951.
URL:https://westernheights.net/event/paint-the-town/
END:VEVENT
BEGIN:VEVENT
DTSTART;TZID=America/New_York:20160515T120000
DTEND;TZID=America/New_York:20160515T133000
DTSTAMP:20260425T114708
CREATED:20160502T190615Z
LAST-MODIFIED:20160502T190615Z
UID:2057-1463313600-1463319000@westernheights.net
SUMMARY:Spaghetti Luncheon
DESCRIPTION:We will gather in the gym immediately following worship for a spaghetti lunch. Donations support our Cuba mission trip.
URL:https://westernheights.net/event/spaghetti-luncheon/
END:VEVENT
BEGIN:VEVENT
DTSTART;TZID=America/New_York:20160511T172500
DTEND;TZID=America/New_York:20160511T183000
DTSTAMP:20260425T114708
CREATED:20160419T201333Z
LAST-MODIFIED:20160419T201333Z
UID:2039-1462987500-1462991400@westernheights.net
SUMMARY:Wednesday Night Supper
DESCRIPTION:We’ll have supper on Wednesday\, May 11 at 5:30 p.m. in the gym. Donations support Cuba mission trip.
URL:https://westernheights.net/event/wednesday-night-supper/
END:VEVENT
BEGIN:VEVENT
DTSTART;TZID=America/New_York:20160430T090000
DTEND;TZID=America/New_York:20160430T120000
DTSTAMP:20260425T114708
CREATED:20160418T150636Z
LAST-MODIFIED:20160418T150636Z
UID:2024-1462006800-1462017600@westernheights.net
SUMMARY:Women's Prayer Day
DESCRIPTION:Meets in the fellowship hall. Leaders will be Becky Grubbs and Faye Benjamin.
URL:https://westernheights.net/event/womens-prayer-day/
END:VEVENT
BEGIN:VEVENT
DTSTART;TZID=America/New_York:20160423T090000
DTEND;TZID=America/New_York:20160423T130000
DTSTAMP:20260425T114708
CREATED:20160413T200719Z
LAST-MODIFIED:20160413T200719Z
UID:1992-1461402000-1461416400@westernheights.net
SUMMARY:Church Work Day
DESCRIPTION:Jobs for all ages inside and out. Lunch provided. No childcare.
URL:https://westernheights.net/event/church-work-day/
CATEGORIES:Work Day
END:VEVENT
END:VCALENDAR