BEGIN:VCALENDAR
VERSION:2.0
PRODID:-//Western Heights Baptist Church - ECPv6.15.17//NONSGML v1.0//EN
CALSCALE:GREGORIAN
METHOD:PUBLISH
X-WR-CALNAME:Western Heights Baptist Church
X-ORIGINAL-URL:https://westernheights.net
X-WR-CALDESC:Events for Western Heights Baptist Church
REFRESH-INTERVAL;VALUE=DURATION:PT1H
X-Robots-Tag:noindex
X-PUBLISHED-TTL:PT1H
BEGIN:VTIMEZONE
TZID:America/New_York
BEGIN:DAYLIGHT
TZOFFSETFROM:-0500
TZOFFSETTO:-0400
TZNAME:EDT
DTSTART:20150308T070000
END:DAYLIGHT
BEGIN:STANDARD
TZOFFSETFROM:-0400
TZOFFSETTO:-0500
TZNAME:EST
DTSTART:20151101T060000
END:STANDARD
BEGIN:DAYLIGHT
TZOFFSETFROM:-0500
TZOFFSETTO:-0400
TZNAME:EDT
DTSTART:20160313T070000
END:DAYLIGHT
BEGIN:STANDARD
TZOFFSETFROM:-0400
TZOFFSETTO:-0500
TZNAME:EST
DTSTART:20161106T060000
END:STANDARD
BEGIN:DAYLIGHT
TZOFFSETFROM:-0500
TZOFFSETTO:-0400
TZNAME:EDT
DTSTART:20170312T070000
END:DAYLIGHT
BEGIN:STANDARD
TZOFFSETFROM:-0400
TZOFFSETTO:-0500
TZNAME:EST
DTSTART:20171105T060000
END:STANDARD
BEGIN:DAYLIGHT
TZOFFSETFROM:-0500
TZOFFSETTO:-0400
TZNAME:EDT
DTSTART:20180311T070000
END:DAYLIGHT
BEGIN:STANDARD
TZOFFSETFROM:-0400
TZOFFSETTO:-0500
TZNAME:EST
DTSTART:20181104T060000
END:STANDARD
BEGIN:DAYLIGHT
TZOFFSETFROM:-0500
TZOFFSETTO:-0400
TZNAME:EDT
DTSTART:20190310T070000
END:DAYLIGHT
BEGIN:STANDARD
TZOFFSETFROM:-0400
TZOFFSETTO:-0500
TZNAME:EST
DTSTART:20191103T060000
END:STANDARD
END:VTIMEZONE
BEGIN:VEVENT
DTSTART;TZID=America/New_York:20180401T071500
DTEND;TZID=America/New_York:20180401T081500
DTSTAMP:20260425T070056
CREATED:20180322T202541Z
LAST-MODIFIED:20180322T202541Z
UID:13718-1522566900-1522570500@westernheights.net
SUMMARY:Easter Sunrise Service
DESCRIPTION:Join us as we celebrate the resurrection of our Lord! Breakfast following the service in the gym.
URL:https://westernheights.net/event/easter-sunrise-service/
END:VEVENT
BEGIN:VEVENT
DTSTART;TZID=America/New_York:20180325T120000
DTEND;TZID=America/New_York:20180325T133000
DTSTAMP:20260425T070056
CREATED:20180322T202748Z
LAST-MODIFIED:20180322T202748Z
UID:13720-1521979200-1521984600@westernheights.net
SUMMARY:Teacher Appreciation Luncheon
DESCRIPTION:We will honor our Sunday School and small group teachers with a potluck lunch immediately following worship in the gym.
URL:https://westernheights.net/event/teacher-appreciation-luncheon/
END:VEVENT
BEGIN:VEVENT
DTSTART;TZID=America/New_York:20180211T180000
DTEND;TZID=America/New_York:20180211T203000
DTSTAMP:20260425T070056
CREATED:20180119T155022Z
LAST-MODIFIED:20180119T155022Z
UID:11731-1518372000-1518381000@westernheights.net
SUMMARY:Valentine's Banquet
DESCRIPTION:Bring your sweetheart to the Western Heights Valentine’s Banquet on Sunday\, February 11 at\n6 pm in the gym. Banquet tickets are on sale now through Sunday\, February 4\, \nChildcare will be provided. On the menu: Ribeye steak or chicken\, baked potato\, salad\, rolls and dessert. Cost is $15 for a steak dinner\, $12 for chicken. \nThere will be great entertainment by magician Arthur Atsma\, award-winning sleight of hand artist\, entertainer and educator from Atlanta.
URL:https://westernheights.net/event/valentines-banquet/
END:VEVENT
BEGIN:VEVENT
DTSTART;TZID=America/New_York:20180204T170000
DTEND;TZID=America/New_York:20180204T220000
DTSTAMP:20260425T070056
CREATED:20180119T155345Z
LAST-MODIFIED:20180119T155345Z
UID:11733-1517763600-1517781600@westernheights.net
SUMMARY:Super Bowl Sunday Chili Cook-Off
DESCRIPTION:Do you have a winning chili recipe? Are you an expert chili judge? Or\, do you just like to eat and watch football? \nJoin us for chili\, hot dogs and lots of fun on Sunday\, February 4\, 5 p.m. in the gym. There will be prizes for Best Tasting Chili\, Hottest Chili\, and Most Unique Chili. Everyone gets a ballot to vote! \nOh\, and we’ll watch the game too! \n  \n 
URL:https://westernheights.net/event/super-bowl-sunday-chili-cook-off/
END:VEVENT
BEGIN:VEVENT
DTSTART;TZID=America/New_York:20171112T120000
DTEND;TZID=America/New_York:20171112T140000
DTSTAMP:20260425T070056
CREATED:20171108T202621Z
LAST-MODIFIED:20171108T202621Z
UID:9868-1510488000-1510495200@westernheights.net
SUMMARY:Thanksgiving Potluck & Pastor Appreciation
DESCRIPTION:Join us on Sunday\, November 12 immediately following worship in the gym as we gather for lunch to celebrate Thanksgiving and show our appreciation for our pastors. \nBring your favorite Thanksgiving dishes and desserts. Meats\, paper products\, and tea will be provided. Do invite friends to join us!
URL:https://westernheights.net/event/thanksgiving-potluck-pastor-appreciation/
END:VEVENT
BEGIN:VEVENT
DTSTART;TZID=America/New_York:20171028T170000
DTEND;TZID=America/New_York:20171028T190000
DTSTAMP:20260425T070056
CREATED:20171005T161322Z
LAST-MODIFIED:20171005T161322Z
UID:8800-1509210000-1509217200@westernheights.net
SUMMARY:Trunk or Treat
DESCRIPTION:Bring your whole family and join us for a hot dog supper and plenty of candy treats!
URL:https://westernheights.net/event/trunk-or-treat-2/
END:VEVENT
BEGIN:VEVENT
DTSTART;TZID=America/New_York:20170827T130000
DTEND;TZID=America/New_York:20170827T150000
DTSTAMP:20260425T070056
CREATED:20170718T191347Z
LAST-MODIFIED:20170718T191347Z
UID:6898-1503838800-1503846000@westernheights.net
SUMMARY:Church-wide Potluck
DESCRIPTION:Join us for a potluck lunch immediately following worship in the gym.
URL:https://westernheights.net/event/church-wide-potluck/
END:VEVENT
BEGIN:VEVENT
DTSTART;TZID=America/New_York:20170814T190000
DTEND;TZID=America/New_York:20170814T203000
DTSTAMP:20260425T070056
CREATED:20170720T181942Z
LAST-MODIFIED:20170720T181942Z
UID:6974-1502737200-1502742600@westernheights.net
SUMMARY:Read It & Reap Women's Book Group
DESCRIPTION:http://westernheights.net/miss-julia-speak…nd-by-ann-b-ross/ \nCall the church office at 706-882-2545 for meeting details.
URL:https://westernheights.net/event/read-it-reap-womens-book-group/
END:VEVENT
BEGIN:VEVENT
DTSTART;TZID=America/New_York:20170813T150000
DTEND;TZID=America/New_York:20170813T200000
DTSTAMP:20260425T070056
CREATED:20170718T191223Z
LAST-MODIFIED:20170718T191223Z
UID:6895-1502636400-1502654400@westernheights.net
SUMMARY:Church-wide Picnic
DESCRIPTION:Join us at Long Cane Access Park for a church-wide picnic! Bring side dishes to share that go with burgers and dogs. Games start at 3 p.m. and we’ll eat at 5 p.m. Don’t forget your sunscreen or your portable chair!
URL:https://westernheights.net/event/church-wide-picnic/
END:VEVENT
BEGIN:VEVENT
DTSTART;TZID=America/New_York:20170809T173000
DTEND;TZID=America/New_York:20170809T190000
DTSTAMP:20260425T070056
CREATED:20170718T190857Z
LAST-MODIFIED:20170718T190857Z
UID:6893-1502299800-1502305200@westernheights.net
SUMMARY:Back to School Supper
DESCRIPTION:School starts back this week so we’ll celebrate with a Wednesday night supper!
URL:https://westernheights.net/event/back-to-school-supper/
END:VEVENT
BEGIN:VEVENT
DTSTART;TZID=America/New_York:20170729T130000
DTEND;TZID=America/New_York:20170729T160000
DTSTAMP:20260425T070056
CREATED:20170718T191809Z
LAST-MODIFIED:20170718T191809Z
UID:6900-1501333200-1501344000@westernheights.net
SUMMARY:Block Party for Berta Students
DESCRIPTION:Western Heights youth are hosting a block party at Troup Baptist Association for Berta Weathersbee Elementary students. Burgers and dogs will be served. There will be a bouncy house and a dunking booth and lots of fun!
URL:https://westernheights.net/event/block-party-for-berta-students/
END:VEVENT
BEGIN:VEVENT
DTSTART;VALUE=DATE:20170709
DTEND;VALUE=DATE:20170714
DTSTAMP:20260425T070056
CREATED:20170622T153445Z
LAST-MODIFIED:20170622T153445Z
UID:6388-1499558400-1499990399@westernheights.net
SUMMARY:Free Community VBS
DESCRIPTION:Operation Arctic is the theme of this year’s Free Community VBS for children in pre-K through fifth grade.Sunday\, July 9 – Thursday\, July 13 from 5:30-8:15 PM. Supper is provided each night. \n[button link=”http://westernheights.net/vbs-registration-form” color=”lightblue” newwindow=”yes”] Register Here[/button]
URL:https://westernheights.net/event/free-community-vbs/
END:VEVENT
BEGIN:VEVENT
DTSTART;TZID=America/New_York:20170626T083000
DTEND;TZID=America/New_York:20170630T120000
DTSTAMP:20260425T070056
CREATED:20170222T175235Z
LAST-MODIFIED:20170222T175235Z
UID:3042-1498465800-1498824000@westernheights.net
SUMMARY:Western Heights Sports Camp
DESCRIPTION:http://westernheights.net/sports-camp-register/For children in first through fifth grade. A low-cost opportunity for athletic instruction in a wide variety of sports and games. Cost per camper is $20 donation\, $10 for additional children from the same family. Scholarships available.
URL:https://westernheights.net/event/western-heights-sports-camp/
END:VEVENT
BEGIN:VEVENT
DTSTART;VALUE=DATE:20170618
DTEND;VALUE=DATE:20170623
DTSTAMP:20260425T070056
CREATED:20170222T174700Z
LAST-MODIFIED:20170222T174700Z
UID:3040-1497744000-1498175999@westernheights.net
SUMMARY:Camp Viola
DESCRIPTION:Western Heights sponsors five days of overnight camp for about 50 third through fifth graders from Berta Weathersbee Elementary.
URL:https://westernheights.net/event/camp-viola-2/
END:VEVENT
BEGIN:VEVENT
DTSTART;TZID=America/New_York:20170521T130000
DTEND;TZID=America/New_York:20170521T190000
DTSTAMP:20260425T070056
CREATED:20170222T174459Z
LAST-MODIFIED:20170222T174459Z
UID:3038-1495371600-1495393200@westernheights.net
SUMMARY:Picnic at the Lake
DESCRIPTION:Spend the afternoon after church at Long Cane Access. Bring a side dish to go with burgers and dogs; we’ll eat at 5 PM. Fun for the whole family and bring friends! Don’t forget your portable chair.
URL:https://westernheights.net/event/picnic-at-the-lake/
END:VEVENT
BEGIN:VEVENT
DTSTART;VALUE=DATE:20170421
DTEND;VALUE=DATE:20170423
DTSTAMP:20260425T070056
CREATED:20170316T180330Z
LAST-MODIFIED:20170316T180330Z
UID:3671-1492732800-1492905599@westernheights.net
SUMMARY:Unbridled Spirit Women's Retreat
DESCRIPTION:Join other women for a weekend of emotional & spiritual enrichment. Fun\, fellowship\, bible study\, delicious food\, creative arts AND inspiring praise and worship. Cost is $20 per person and includes three meals. Childcare will be provided. Registration deadline is April 14. Call the church office at 706-882-2545 for complete registration information.
URL:https://westernheights.net/event/unbridled-spirit-womens-retreat/
END:VEVENT
BEGIN:VEVENT
DTSTART;TZID=America/New_York:20170326T180000
DTEND;TZID=America/New_York:20170326T193000
DTSTAMP:20260425T070056
CREATED:20170321T150142Z
LAST-MODIFIED:20170321T150142Z
UID:3825-1490551200-1490556600@westernheights.net
SUMMARY:Night of Praise
DESCRIPTION:Join us for a fun-filled night of music and praise! Bring your family and friends. There will be childcare for infants through five-year-olds. \nOh magnify the Lord with me\, and let us exalt his name together! Psalm 34:3
URL:https://westernheights.net/event/night-of-praise/
END:VEVENT
BEGIN:VEVENT
DTSTART;TZID=America/New_York:20170316T180000
DTEND;TZID=America/New_York:20170316T190000
DTSTAMP:20260425T070056
CREATED:20170316T175815Z
LAST-MODIFIED:20170316T175815Z
UID:3667-1489687200-1489690800@westernheights.net
SUMMARY:Praise Service
DESCRIPTION:Join us for an evening of praise! Childcare will be provided for infants – five-year-olds.
URL:https://westernheights.net/event/praise-service/
END:VEVENT
BEGIN:VEVENT
DTSTART;TZID=America/New_York:20170312T120000
DTEND;TZID=America/New_York:20170312T140000
DTSTAMP:20260425T070056
CREATED:20170303T170358Z
LAST-MODIFIED:20170303T170358Z
UID:3255-1489320000-1489327200@westernheights.net
SUMMARY:Sunday School Teachers Appreciation Luncheon
DESCRIPTION:Join us on Sunday\, March 12 for a potluck luncheon to honor and celebrate our Sunday School teachers. Bring a dish to share. We will meet in the gym immediately following worship.
URL:https://westernheights.net/event/sunday-school-teachers-appreciation-luncheon/
END:VEVENT
BEGIN:VEVENT
DTSTART;TZID=America/New_York:20170225T083000
DTEND;TZID=America/New_York:20170225T123000
DTSTAMP:20260425T070056
CREATED:20170222T173907Z
LAST-MODIFIED:20170222T173907Z
UID:3031-1488011400-1488025800@westernheights.net
SUMMARY:Church Clean Up Day
DESCRIPTION:Jobs for all ages inside and out. No childcare provided.
URL:https://westernheights.net/event/church-clean-up-day/
END:VEVENT
BEGIN:VEVENT
DTSTART;TZID=America/New_York:20161225T110000
DTEND;TZID=America/New_York:20161225T120000
DTSTAMP:20260425T070056
CREATED:20161122T200341Z
LAST-MODIFIED:20161122T200341Z
UID:2193-1482663600-1482667200@westernheights.net
SUMMARY:Christmas Morning Worship
DESCRIPTION:Yes! We are having worship on Christmas Day! Come worship Jesus’ birth with us. \n(No Sunday School)
URL:https://westernheights.net/event/christmas-morning-worship/
END:VEVENT
BEGIN:VEVENT
DTSTART;TZID=America/New_York:20161224T200000
DTEND;TZID=America/New_York:20161224T203000
DTSTAMP:20260425T070056
CREATED:20161122T195955Z
LAST-MODIFIED:20161122T195955Z
UID:2189-1482609600-1482611400@westernheights.net
SUMMARY:Christmas Eve Service & Communion
DESCRIPTION:This is a simple service in which the Christmas story is read\, communion is served at tables and we end by singing Silent Night. The service lasts about 30 minutes. There will not be childcare. We enjoy the tradition of parents bringing their children in their pajamas.
URL:https://westernheights.net/event/christmas-eve-service-communion/
END:VEVENT
BEGIN:VEVENT
DTSTART;TZID=America/New_York:20161218T180000
DTEND;TZID=America/New_York:20161218T193000
DTSTAMP:20260425T070056
CREATED:20161122T195704Z
LAST-MODIFIED:20161122T195704Z
UID:2187-1482084000-1482089400@westernheights.net
SUMMARY:Celebrate the King
DESCRIPTION:A community Christmas service with our friends from The First Hispanic Church of LaGrange\, Bethlehem Temple Church\, and City Light Church to celebrate the birth of Jesus Christ. We imagine a beautiful multicultural musical celebration! \nA reception will follow in the gym. Childcare provided for infants – 5 years. \nPlease join us!
URL:https://westernheights.net/event/celebrate-the-king/
END:VEVENT
BEGIN:VEVENT
DTSTART;TZID=America/New_York:20161212T190000
DTEND;TZID=America/New_York:20161212T203000
DTSTAMP:20260425T070056
CREATED:20161122T204701Z
LAST-MODIFIED:20161122T204701Z
UID:2203-1481569200-1481574600@westernheights.net
SUMMARY:Read It & Reap
DESCRIPTION:Western Heights women’s book group meets to discuss Skipping Christmas by John Grisham. Call the church office for meeting location.
URL:https://westernheights.net/event/read-it-reap/
END:VEVENT
BEGIN:VEVENT
DTSTART;TZID=America/New_York:20161113T120000
DTEND;TZID=America/New_York:20161113T130000
DTSTAMP:20260425T070056
CREATED:20161004T165929Z
LAST-MODIFIED:20161004T165929Z
UID:2174-1479038400-1479042000@westernheights.net
SUMMARY:Thanksgiving Luncheon
DESCRIPTION:Join us for a great Thanksgiving feast! Immediately following worship.
URL:https://westernheights.net/event/thanksgiving-luncheon/
END:VEVENT
BEGIN:VEVENT
DTSTART;TZID=America/New_York:20161102T183000
DTEND;TZID=America/New_York:20161102T193000
DTSTAMP:20260425T070056
CREATED:20161004T164850Z
LAST-MODIFIED:20161004T164850Z
UID:2168-1478111400-1478115000@westernheights.net
SUMMARY:40 Days of Prayer - Concert of Unceasing Prayer
DESCRIPTION:Fellowship hall. There will be music\, silent reflection\, Scripture reading and prayer.
URL:https://westernheights.net/event/40-days-of-prayer-concert-of-unceasing-prayer/
END:VEVENT
BEGIN:VEVENT
DTSTART;TZID=America/New_York:20161029T170000
DTEND;TZID=America/New_York:20161029T190000
DTSTAMP:20260425T070056
CREATED:20161004T165653Z
LAST-MODIFIED:20161004T165653Z
UID:2171-1477760400-1477767600@westernheights.net
SUMMARY:Trunk or Treat
DESCRIPTION:Western Heights parking lot. Join us for a hot dog supper and plenty of treats! Supper is $2 a plate and includes a hot dog\, chips\, and a drink. There will be plenty of treats for kids. Don your favorite costume and join us! \n 
URL:https://westernheights.net/event/trunk-or-treat/
END:VEVENT
BEGIN:VEVENT
DTSTART;TZID=America/New_York:20161028T190000
DTEND;TZID=America/New_York:20161029T070000
DTSTAMP:20260425T070056
CREATED:20161004T164707Z
LAST-MODIFIED:20161004T164707Z
UID:2166-1477681200-1477724400@westernheights.net
SUMMARY:40 Days of Prayer - Prayer Vigil
DESCRIPTION:All night prayer vigil.
URL:https://westernheights.net/event/40-days-of-prayer-prayer-vigil/
END:VEVENT
BEGIN:VEVENT
DTSTART;TZID=America/New_York:20161026T183000
DTEND;TZID=America/New_York:20161026T193000
DTSTAMP:20260425T070056
CREATED:20161004T164546Z
LAST-MODIFIED:20161004T164546Z
UID:2164-1477506600-1477510200@westernheights.net
SUMMARY:40 Days of Prayer - Supplication
DESCRIPTION:Prayer walking the church.
URL:https://westernheights.net/event/40-days-of-prayer-supplication/
END:VEVENT
BEGIN:VEVENT
DTSTART;TZID=America/New_York:20161019T183000
DTEND;TZID=America/New_York:20161019T193000
DTSTAMP:20260425T070056
CREATED:20161004T164350Z
LAST-MODIFIED:20161004T164350Z
UID:2161-1476901800-1476905400@westernheights.net
SUMMARY:40 Days of Prayer - Concert of Thanksgiving
DESCRIPTION:Fellowship Hall. there will be music\, silent reflection\, Scripture reading and prayer.
URL:https://westernheights.net/event/40-days-of-prayer-concert-of-thanksgiving/
END:VEVENT
END:VCALENDAR